BEGIN:VCALENDAR
VERSION:2.0
PRODID:-//SBIOA - International School | Chennai - ECPv6.15.11//NONSGML v1.0//EN
CALSCALE:GREGORIAN
METHOD:PUBLISH
X-WR-CALNAME:SBIOA - International School | Chennai
X-ORIGINAL-URL:https://sbioainternationalschool.org
X-WR-CALDESC:Events for SBIOA - International School | Chennai
REFRESH-INTERVAL;VALUE=DURATION:PT1H
X-Robots-Tag:noindex
X-PUBLISHED-TTL:PT1H
BEGIN:VTIMEZONE
TZID:UTC
BEGIN:STANDARD
TZOFFSETFROM:+0000
TZOFFSETTO:+0000
TZNAME:UTC
DTSTART:20250101T000000
END:STANDARD
END:VTIMEZONE
BEGIN:VEVENT
DTSTART;TZID=UTC:20260227T090000
DTEND;TZID=UTC:20260227T170000
DTSTAMP:20260423T130806
CREATED:20260202T110941Z
LAST-MODIFIED:20260202T110941Z
UID:22102-1772182800-1772211600@sbioainternationalschool.org
SUMMARY:National Science Day
DESCRIPTION:
URL:https://sbioainternationalschool.org/event/national-science-day/
CATEGORIES:Upcoming Events
END:VEVENT
BEGIN:VEVENT
DTSTART;TZID=UTC:20260211T090000
DTEND;TZID=UTC:20260213T170000
DTSTAMP:20260423T130806
CREATED:20260202T105855Z
LAST-MODIFIED:20260202T105855Z
UID:22100-1770800400-1771002000@sbioainternationalschool.org
SUMMARY:Book Fair
DESCRIPTION:
URL:https://sbioainternationalschool.org/event/book-fair/
CATEGORIES:Upcoming Events
END:VEVENT
BEGIN:VEVENT
DTSTART;TZID=UTC:20260211T090000
DTEND;TZID=UTC:20260211T170000
DTSTAMP:20260423T130806
CREATED:20260122T104500Z
LAST-MODIFIED:20260220T075436Z
UID:21841-1770800400-1770829200@sbioainternationalschool.org
SUMMARY:Hall Ticket Ceremony
DESCRIPTION:Hall Ticket Ceremony Held with Grandeur at SBIOA International School\n\nChennai\, February 11\, 2026:\n\nThe Hall Ticket Ceremony for Grade X and Grade XII students was conducted with dignity and solemnity on February 11\, 2026\, at the auditorium of SBIOA International School. The event marked a significant milestone in the academic journey of the outgoing batches as they prepare to appear for their Board Examinations.\nThe ceremony was graced by the esteemed presence of the Secretary and Correspondent of SBIOA Educational Trust\, Shri A. Senthil Ramesh\, and Management Committee Member Shri Saravanan Raja V. Their presence added prestige and encouragement to the occasion. The dignitaries formally distributed the hall tickets\, symbolising the students’ readiness to take on their Board Examinations with confidence.\nIn his special address\, Shri A. Senthil Ramesh shared an inspiring anecdote from his student days\, explaining how a simple spark of curiosity in Mathematics gradually developed into a strong academic commitment. He emphasised that dedication\, discipline\, and genuine interest in learning enabled him to consistently achieve excellent results. Through his reflection\, he motivated the students to discover their own interests\, remain focused\, and pursue excellence with perseverance and self-belief.\nFollowing the special address\, the Principal\, Smt. Revathy Alagarsamy\, offered detailed instructions regarding examination guidelines and extended her heartfelt blessings for the students’ best performance. She encouraged them to remain calm\, focused\, and optimistic\, reminding them that consistent effort and dedication always yield success.\nAdding an emotional touch to the ceremony\, Head Boy Roshan of Grade XII A\, along with Santhosh of Grade X A and Yuktha of Grade X B\, shared their memorable experiences at school. They expressed deep gratitude to their teachers for unwavering guidance and support throughout their academic journey.\nThe ceremony concluded on a hopeful and inspiring note\, with students leaving the auditorium filled with confidence\, determination\, and the blessings of their mentors\, ready to take on the forthcoming Board Examinations with renewed spirit.
URL:https://sbioainternationalschool.org/event/hall-ticket-ceremony/
CATEGORIES:Past Events,Upcoming Events
END:VEVENT
BEGIN:VEVENT
DTSTART;TZID=UTC:20260209T090000
DTEND;TZID=UTC:20260209T170000
DTSTAMP:20260423T130806
CREATED:20260122T104339Z
LAST-MODIFIED:20260202T111537Z
UID:21839-1770627600-1770656400@sbioainternationalschool.org
SUMMARY:Annual Sports Meet
DESCRIPTION:
URL:https://sbioainternationalschool.org/event/annual-sports-meet/
CATEGORIES:Upcoming Events
END:VEVENT
END:VCALENDAR